Package: epivizrData Version: 1.35.0 Command: rm -rf epivizrData.buildbin-libdir && mkdir epivizrData.buildbin-libdir && /Users/biocbuild/BBS/utils/build-universal.sh epivizrData_1.35.0.tar.gz /Library/Frameworks/R.framework/Resources/bin/R epivizrData.buildbin-libdir StartedAt: 2025-02-10 00:52:32 -0500 (Mon, 10 Feb 2025) EndedAt: 2025-02-10 00:53:33 -0500 (Mon, 10 Feb 2025) EllapsedTime: 61.4 seconds RetCode: 0 Status: OK PackageFile: epivizrData_1.35.0.tgz PackageFileSize: 882.2 KiB