Package: epivizrData Version: 1.35.0 Command: /Library/Frameworks/R.framework/Resources/bin/R CMD build --keep-empty-dirs --no-resave-data epivizrData StartedAt: 2025-02-12 16:39:48 -0500 (Wed, 12 Feb 2025) EndedAt: 2025-02-12 16:40:49 -0500 (Wed, 12 Feb 2025) EllapsedTime: 61.7 seconds RetCode: 0 Status: OK PackageFile: epivizrData_1.35.0.tar.gz PackageFileSize: 243.3 KiB