Package: epivizrData Version: 1.35.0 Command: /home/biocbuild/bbs-3.21-bioc/R/bin/R CMD build --keep-empty-dirs --no-resave-data epivizrData StartedAt: 2025-02-09 17:10:35 -0500 (Sun, 09 Feb 2025) EndedAt: 2025-02-09 17:11:34 -0500 (Sun, 09 Feb 2025) EllapsedTime: 59.1 seconds RetCode: 0 Status: OK PackageFile: epivizrData_1.35.0.tar.gz PackageFileSize: 243.3 KiB