Package: epivizrData Version: 1.35.0 Command: /home/biocbuild/bbs-3.21-bioc/R/bin/R CMD check --install=check:epivizrData.install-out.txt --library=/home/biocbuild/bbs-3.21-bioc/R/site-library --timings epivizrData_1.35.0.tar.gz StartedAt: 2025-02-09 22:07:36 -0500 (Sun, 09 Feb 2025) EndedAt: 2025-02-09 22:13:44 -0500 (Sun, 09 Feb 2025) EllapsedTime: 367.5 seconds RetCode: 0 Status: OK CheckDir: epivizrData.Rcheck Warnings: 0