Package: epivizrData Version: 1.35.0 Command: rm -rf epivizrData.buildbin-libdir && mkdir epivizrData.buildbin-libdir && E:\biocbuild\bbs-3.21-bioc\R\bin\R.exe CMD INSTALL --build --library=epivizrData.buildbin-libdir epivizrData_1.35.0.tar.gz StartedAt: 2025-02-10 07:42:56 -0500 (Mon, 10 Feb 2025) EndedAt: 2025-02-10 07:44:12 -0500 (Mon, 10 Feb 2025) EllapsedTime: 76.2 seconds RetCode: 0 Status: OK PackageFile: epivizrData_1.35.0.zip PackageFileSize: 885.6 KiB