Package: epivizrData Version: 1.35.0 Command: E:\biocbuild\bbs-3.21-bioc\R\bin\R.exe CMD INSTALL epivizrData StartedAt: 2025-02-09 16:29:53 -0500 (Sun, 09 Feb 2025) EndedAt: 2025-02-09 16:30:57 -0500 (Sun, 09 Feb 2025) EllapsedTime: 63.7 seconds RetCode: 0 Status: OK