Package: epivizrServer Version: 1.35.0 Command: /home/biocbuild/R/R/bin/R CMD check --install=check:epivizrServer.install-out.txt --library=/home/biocbuild/R/R/site-library --no-vignettes --timings epivizrServer_1.35.0.tar.gz StartedAt: 2025-01-28 10:26:09 -0000 (Tue, 28 Jan 2025) EndedAt: 2025-01-28 10:26:33 -0000 (Tue, 28 Jan 2025) EllapsedTime: 24.0 seconds RetCode: 0 Status: WARNINGS CheckDir: epivizrServer.Rcheck Warnings: 1