Package: epivizrServer Version: 1.35.0 Command: /home/biocbuild/R/R/bin/R CMD INSTALL epivizrServer StartedAt: 2025-01-29 19:34:35 -0000 (Wed, 29 Jan 2025) EndedAt: 2025-01-29 19:34:55 -0000 (Wed, 29 Jan 2025) EllapsedTime: 19.6 seconds RetCode: 0 Status: OK