Package: epivizrServer Version: 1.35.0 Command: /Library/Frameworks/R.framework/Resources/bin/R CMD build --keep-empty-dirs --no-resave-data epivizrServer StartedAt: 2025-02-09 16:41:55 -0500 (Sun, 09 Feb 2025) EndedAt: 2025-02-09 16:42:03 -0500 (Sun, 09 Feb 2025) EllapsedTime: 8.0 seconds RetCode: 0 Status: OK PackageFile: epivizrServer_1.35.0.tar.gz PackageFileSize: 229.9 KiB