Package: epivizrServer Version: 1.35.0 Command: /home/biocbuild/bbs-3.21-bioc/R/bin/R CMD build --keep-empty-dirs --no-resave-data epivizrServer StartedAt: 2025-02-04 17:08:38 -0500 (Tue, 04 Feb 2025) EndedAt: 2025-02-04 17:08:44 -0500 (Tue, 04 Feb 2025) EllapsedTime: 6.0 seconds RetCode: 0 Status: OK PackageFile: epivizrServer_1.35.0.tar.gz PackageFileSize: 229.9 KiB