Package: epivizrServer Version: 1.35.0 Command: /home/biocbuild/bbs-3.21-bioc/R/bin/R CMD INSTALL epivizrServer StartedAt: 2025-02-09 15:04:30 -0500 (Sun, 09 Feb 2025) EndedAt: 2025-02-09 15:04:42 -0500 (Sun, 09 Feb 2025) EllapsedTime: 12.3 seconds RetCode: 0 Status: OK