Package: epivizrServer Version: 1.35.0 Command: chmod a+r epivizrServer -R && E:\biocbuild\bbs-3.21-bioc\R\bin\R.exe CMD build --keep-empty-dirs --no-resave-data epivizrServer StartedAt: 2025-02-04 18:38:10 -0500 (Tue, 04 Feb 2025) EndedAt: 2025-02-04 18:38:23 -0500 (Tue, 04 Feb 2025) EllapsedTime: 13.0 seconds RetCode: 0 Status: OK PackageFile: epivizrServer_1.35.0.tar.gz PackageFileSize: 230 KiB