Package: epivizrServer Version: 1.35.0 Command: E:\biocbuild\bbs-3.21-bioc\R\bin\R.exe CMD INSTALL epivizrServer StartedAt: 2025-02-03 15:40:38 -0500 (Mon, 03 Feb 2025) EndedAt: 2025-02-03 15:41:10 -0500 (Mon, 03 Feb 2025) EllapsedTime: 31.8 seconds RetCode: 0 Status: OK