Package: escape Version: 2.3.0 Maintainer: Nick Borcherding MaintainerEmail: ncborch at gmail.com git_url: https://git.bioconductor.org/packages/escape git_branch: devel git_last_commit: 4d1d12e git_last_commit_date: 2025-01-24 15:26:06 -0500 (Fri, 24 Jan 2025)