Package: escape Version: 2.3.0 Command: /Library/Frameworks/R.framework/Resources/bin/R CMD build --keep-empty-dirs --no-resave-data escape StartedAt: 2025-02-03 16:54:10 -0500 (Mon, 03 Feb 2025) EndedAt: 2025-02-03 16:54:42 -0500 (Mon, 03 Feb 2025) EllapsedTime: 31.3 seconds RetCode: 0 Status: OK PackageFile: escape_2.3.0.tar.gz PackageFileSize: 4.004 MiB