Package: escape Version: 2.3.0 Command: rm -rf escape.buildbin-libdir && mkdir escape.buildbin-libdir && /Users/biocbuild/BBS/utils/build-universal.sh escape_2.3.0.tar.gz /Library/Frameworks/R.framework/Resources/bin/R escape.buildbin-libdir StartedAt: 2025-02-10 00:52:44 -0500 (Mon, 10 Feb 2025) EndedAt: 2025-02-10 00:53:46 -0500 (Mon, 10 Feb 2025) EllapsedTime: 61.5 seconds RetCode: 0 Status: OK PackageFile: escape_2.3.0.tgz PackageFileSize: 1.754 MiB