Package: escape Version: 2.3.0 Command: /home/biocbuild/bbs-3.21-bioc/R/bin/R CMD INSTALL escape StartedAt: 2025-02-09 15:54:44 -0500 (Sun, 09 Feb 2025) EndedAt: 2025-02-09 15:55:27 -0500 (Sun, 09 Feb 2025) EllapsedTime: 42.9 seconds RetCode: 0 Status: OK