Package: escape Version: 2.3.0 Command: E:\biocbuild\bbs-3.21-bioc\R\bin\R.exe CMD check --no-multiarch --install=check:escape.install-out.txt --library=E:\biocbuild\bbs-3.21-bioc\R\library --no-vignettes --timings escape_2.3.0.tar.gz StartedAt: 2025-02-04 01:24:19 -0500 (Tue, 04 Feb 2025) EndedAt: 2025-02-04 01:31:58 -0500 (Tue, 04 Feb 2025) EllapsedTime: 459.3 seconds RetCode: 0 Status: OK CheckDir: escape.Rcheck Warnings: 0