Package: escape Version: 2.3.0 Command: E:\biocbuild\bbs-3.21-bioc\R\bin\R.exe CMD INSTALL escape StartedAt: 2025-02-09 16:27:08 -0500 (Sun, 09 Feb 2025) EndedAt: 2025-02-09 16:28:03 -0500 (Sun, 09 Feb 2025) EllapsedTime: 55.5 seconds RetCode: 0 Status: OK