Package: escheR Version: 1.7.0 Command: rm -rf escheR.buildbin-libdir && mkdir escheR.buildbin-libdir && /Users/biocbuild/BBS/utils/build-universal.sh escheR_1.7.0.tar.gz /Library/Frameworks/R.framework/Resources/bin/R escheR.buildbin-libdir StartedAt: 2025-02-12 22:19:04 -0500 (Wed, 12 Feb 2025) EndedAt: 2025-02-12 22:19:17 -0500 (Wed, 12 Feb 2025) EllapsedTime: 12.2 seconds RetCode: 0 Status: OK PackageFile: escheR_1.7.0.tgz PackageFileSize: 3.562 MiB