Package: escheR Version: 1.7.0 Command: /Library/Frameworks/R.framework/Resources/bin/R CMD build --keep-empty-dirs --no-resave-data escheR StartedAt: 2025-02-09 16:17:19 -0500 (Sun, 09 Feb 2025) EndedAt: 2025-02-09 16:18:11 -0500 (Sun, 09 Feb 2025) EllapsedTime: 52.5 seconds RetCode: 0 Status: OK PackageFile: escheR_1.7.0.tar.gz PackageFileSize: 3.545 MiB