Package: escheR Version: 1.7.0 Command: /Library/Frameworks/R.framework/Resources/bin/R CMD check --install=check:escheR.install-out.txt --library=/Library/Frameworks/R.framework/Resources/library --no-vignettes --timings escheR_1.7.0.tar.gz StartedAt: 2025-02-09 19:09:44 -0500 (Sun, 09 Feb 2025) EndedAt: 2025-02-09 19:11:00 -0500 (Sun, 09 Feb 2025) EllapsedTime: 75.9 seconds RetCode: 0 Status: OK CheckDir: escheR.Rcheck Warnings: 0