Package: escheR Version: 1.7.0 Command: /Library/Frameworks/R.framework/Resources/bin/R CMD INSTALL escheR StartedAt: 2025-02-09 15:24:20 -0500 (Sun, 09 Feb 2025) EndedAt: 2025-02-09 15:24:30 -0500 (Sun, 09 Feb 2025) EllapsedTime: 9.9 seconds RetCode: 0 Status: OK