Package: escheR Version: 1.7.0 Command: /home/biocbuild/R/R/bin/R CMD INSTALL escheR StartedAt: 2025-01-29 20:26:24 -0000 (Wed, 29 Jan 2025) EndedAt: 2025-01-29 20:26:59 -0000 (Wed, 29 Jan 2025) EllapsedTime: 35.4 seconds RetCode: 0 Status: OK