Package: escheR Version: 1.7.0 Command: rm -rf escheR.buildbin-libdir && mkdir escheR.buildbin-libdir && /Users/biocbuild/BBS/utils/build-universal.sh escheR_1.7.0.tar.gz /Library/Frameworks/R.framework/Resources/bin/R escheR.buildbin-libdir StartedAt: 2025-02-13 00:35:58 -0500 (Thu, 13 Feb 2025) EndedAt: 2025-02-13 00:36:34 -0500 (Thu, 13 Feb 2025) EllapsedTime: 35.8 seconds RetCode: 0 Status: OK PackageFile: escheR_1.7.0.tgz PackageFileSize: 3.562 MiB