Package: escheR Version: 1.7.0 Command: /Library/Frameworks/R.framework/Resources/bin/R CMD build --keep-empty-dirs --no-resave-data escheR StartedAt: 2025-02-12 16:40:39 -0500 (Wed, 12 Feb 2025) EndedAt: 2025-02-12 16:43:28 -0500 (Wed, 12 Feb 2025) EllapsedTime: 169.2 seconds RetCode: 0 Status: OK PackageFile: escheR_1.7.0.tar.gz PackageFileSize: 3.545 MiB