Package: escheR Version: 1.7.0 Command: /Library/Frameworks/R.framework/Resources/bin/R CMD check --install=check:escheR.install-out.txt --library=/Library/Frameworks/R.framework/Resources/library --no-vignettes --timings escheR_1.7.0.tar.gz StartedAt: 2025-02-12 20:24:59 -0500 (Wed, 12 Feb 2025) EndedAt: 2025-02-12 20:29:33 -0500 (Wed, 12 Feb 2025) EllapsedTime: 274.1 seconds RetCode: 0 Status: OK CheckDir: escheR.Rcheck Warnings: 0