Package: escheR Version: 1.7.0 Command: /home/biocbuild/bbs-3.21-bioc/R/bin/R CMD build --keep-empty-dirs --no-resave-data escheR StartedAt: 2025-02-09 17:11:34 -0500 (Sun, 09 Feb 2025) EndedAt: 2025-02-09 17:14:30 -0500 (Sun, 09 Feb 2025) EllapsedTime: 175.6 seconds RetCode: 0 Status: OK PackageFile: escheR_1.7.0.tar.gz PackageFileSize: 2.91 MiB