Package: escheR Version: 1.7.0 Command: /home/biocbuild/bbs-3.21-bioc/R/bin/R CMD check --install=check:escheR.install-out.txt --library=/home/biocbuild/bbs-3.21-bioc/R/site-library --timings escheR_1.7.0.tar.gz StartedAt: 2025-02-09 22:10:44 -0500 (Sun, 09 Feb 2025) EndedAt: 2025-02-09 22:16:44 -0500 (Sun, 09 Feb 2025) EllapsedTime: 359.4 seconds RetCode: 0 Status: OK CheckDir: escheR.Rcheck Warnings: 0