Package: escheR Version: 1.7.0 Command: rm -rf escheR.buildbin-libdir && mkdir escheR.buildbin-libdir && E:\biocbuild\bbs-3.21-bioc\R\bin\R.exe CMD INSTALL --build --library=escheR.buildbin-libdir escheR_1.7.0.tar.gz StartedAt: 2025-02-10 07:43:23 -0500 (Mon, 10 Feb 2025) EndedAt: 2025-02-10 07:43:52 -0500 (Mon, 10 Feb 2025) EllapsedTime: 29.0 seconds RetCode: 0 Status: OK PackageFile: escheR_1.7.0.zip PackageFileSize: 933.5 KiB