Package: escheR Version: 1.7.0 Command: chmod a+r escheR -R && E:\biocbuild\bbs-3.21-bioc\R\bin\R.exe CMD build --keep-empty-dirs --no-resave-data escheR StartedAt: 2025-02-09 18:38:17 -0500 (Sun, 09 Feb 2025) EndedAt: 2025-02-09 18:43:37 -0500 (Sun, 09 Feb 2025) EllapsedTime: 320.0 seconds RetCode: 0 Status: OK PackageFile: escheR_1.7.0.tar.gz PackageFileSize: 914.8 KiB