Package: escheR Version: 1.7.0 Command: E:\biocbuild\bbs-3.21-bioc\R\bin\R.exe CMD INSTALL escheR StartedAt: 2025-02-12 16:46:17 -0500 (Wed, 12 Feb 2025) EndedAt: 2025-02-12 16:46:46 -0500 (Wed, 12 Feb 2025) EllapsedTime: 28.9 seconds RetCode: 0 Status: OK