Package: esetVis Version: 1.33.0 Command: rm -rf esetVis.buildbin-libdir && mkdir esetVis.buildbin-libdir && /Users/biocbuild/BBS/utils/build-universal.sh esetVis_1.33.0.tar.gz /Library/Frameworks/R.framework/Resources/bin/R esetVis.buildbin-libdir StartedAt: 2025-02-09 22:13:51 -0500 (Sun, 09 Feb 2025) EndedAt: 2025-02-09 22:13:59 -0500 (Sun, 09 Feb 2025) EllapsedTime: 7.1 seconds RetCode: 0 Status: OK PackageFile: esetVis_1.33.0.tgz PackageFileSize: 4.619 MiB