Package: esetVis Version: 1.33.0 Command: /Library/Frameworks/R.framework/Resources/bin/R CMD check --install=check:esetVis.install-out.txt --library=/Library/Frameworks/R.framework/Resources/library --no-vignettes --timings esetVis_1.33.0.tar.gz StartedAt: 2025-02-09 19:10:01 -0500 (Sun, 09 Feb 2025) EndedAt: 2025-02-09 19:11:08 -0500 (Sun, 09 Feb 2025) EllapsedTime: 66.8 seconds RetCode: 0 Status: OK CheckDir: esetVis.Rcheck Warnings: 0