Package: esetVis Version: 1.33.0 Command: /Library/Frameworks/R.framework/Resources/bin/R CMD INSTALL esetVis StartedAt: 2025-02-09 15:09:17 -0500 (Sun, 09 Feb 2025) EndedAt: 2025-02-09 15:09:23 -0500 (Sun, 09 Feb 2025) EllapsedTime: 5.4 seconds RetCode: 0 Status: OK