Package: esetVis Version: 1.33.0 Command: /home/biocbuild/R/R/bin/R CMD build --keep-empty-dirs --no-resave-data esetVis StartedAt: 2025-01-28 22:48:54 -0000 (Tue, 28 Jan 2025) EndedAt: 2025-01-28 22:52:19 -0000 (Tue, 28 Jan 2025) EllapsedTime: 205.1 seconds RetCode: 0 Status: OK PackageFile: esetVis_1.33.0.tar.gz PackageFileSize: 3.011 MiB