Package: esetVis Version: 1.33.0 Command: /Library/Frameworks/R.framework/Resources/bin/R CMD INSTALL esetVis StartedAt: 2025-02-09 15:17:06 -0500 (Sun, 09 Feb 2025) EndedAt: 2025-02-09 15:17:29 -0500 (Sun, 09 Feb 2025) EllapsedTime: 23.0 seconds RetCode: 0 Status: OK