Package: esetVis Version: 1.33.0 Command: /home/biocbuild/bbs-3.21-bioc/R/bin/R CMD build --keep-empty-dirs --no-resave-data esetVis StartedAt: 2025-02-12 17:08:38 -0500 (Wed, 12 Feb 2025) EndedAt: 2025-02-12 17:10:08 -0500 (Wed, 12 Feb 2025) EllapsedTime: 90.5 seconds RetCode: 0 Status: OK PackageFile: esetVis_1.33.0.tar.gz PackageFileSize: 3.191 MiB