Package: esetVis Version: 1.33.0 Command: /home/biocbuild/bbs-3.21-bioc/R/bin/R CMD check --install=check:esetVis.install-out.txt --library=/home/biocbuild/bbs-3.21-bioc/R/site-library --timings esetVis_1.33.0.tar.gz StartedAt: 2025-02-12 22:10:46 -0500 (Wed, 12 Feb 2025) EndedAt: 2025-02-12 22:14:45 -0500 (Wed, 12 Feb 2025) EllapsedTime: 239.4 seconds RetCode: 0 Status: OK CheckDir: esetVis.Rcheck Warnings: 0