Package: esetVis Version: 1.33.0 Command: rm -rf esetVis.buildbin-libdir && mkdir esetVis.buildbin-libdir && E:\biocbuild\bbs-3.21-bioc\R\bin\R.exe CMD INSTALL --build --library=esetVis.buildbin-libdir esetVis_1.33.0.tar.gz StartedAt: 2025-02-13 07:54:23 -0500 (Thu, 13 Feb 2025) EndedAt: 2025-02-13 07:55:00 -0500 (Thu, 13 Feb 2025) EllapsedTime: 36.4 seconds RetCode: 0 Status: OK PackageFile: esetVis_1.33.0.zip PackageFileSize: 2.765 MiB