Package: eudysbiome Version: 1.37.0 Command: /home/biocbuild/R/R/bin/R CMD build --keep-empty-dirs --no-resave-data eudysbiome StartedAt: 2025-01-28 22:48:57 -0000 (Tue, 28 Jan 2025) EndedAt: 2025-01-28 22:49:21 -0000 (Tue, 28 Jan 2025) EllapsedTime: 24.0 seconds RetCode: 0 Status: OK PackageFile: eudysbiome_1.37.0.tar.gz PackageFileSize: 4.358 MiB