Package: eudysbiome Version: 1.37.0 Command: rm -rf eudysbiome.buildbin-libdir && mkdir eudysbiome.buildbin-libdir && /Users/biocbuild/BBS/utils/build-universal.sh eudysbiome_1.37.0.tar.gz /Library/Frameworks/R.framework/Resources/bin/R eudysbiome.buildbin-libdir StartedAt: 2025-02-10 00:52:46 -0500 (Mon, 10 Feb 2025) EndedAt: 2025-02-10 00:53:04 -0500 (Mon, 10 Feb 2025) EllapsedTime: 18.5 seconds RetCode: 0 Status: OK PackageFile: eudysbiome_1.37.0.tgz PackageFileSize: 4.408 MiB