Package: eudysbiome Version: 1.37.0 Command: chmod a+r eudysbiome -R && E:\biocbuild\bbs-3.21-bioc\R\bin\R.exe CMD build --keep-empty-dirs --no-resave-data eudysbiome StartedAt: 2025-02-09 18:38:21 -0500 (Sun, 09 Feb 2025) EndedAt: 2025-02-09 18:38:58 -0500 (Sun, 09 Feb 2025) EllapsedTime: 37.2 seconds RetCode: 0 Status: OK PackageFile: eudysbiome_1.37.0.tar.gz PackageFileSize: 4.223 MiB