Package: eudysbiome Version: 1.37.0 Command: E:\biocbuild\bbs-3.21-bioc\R\bin\R.exe CMD check --no-multiarch --install=check:eudysbiome.install-out.txt --library=E:\biocbuild\bbs-3.21-bioc\R\library --no-vignettes --timings eudysbiome_1.37.0.tar.gz StartedAt: 2025-02-10 00:58:07 -0500 (Mon, 10 Feb 2025) EndedAt: 2025-02-10 01:00:43 -0500 (Mon, 10 Feb 2025) EllapsedTime: 156.0 seconds RetCode: 0 Status: OK CheckDir: eudysbiome.Rcheck Warnings: 0