Package: extraChIPs Version: 1.11.0 Command: /Library/Frameworks/R.framework/Resources/bin/R CMD INSTALL extraChIPs StartedAt: 2025-02-12 15:17:28 -0500 (Wed, 12 Feb 2025) EndedAt: 2025-02-12 15:17:52 -0500 (Wed, 12 Feb 2025) EllapsedTime: 23.4 seconds RetCode: 0 Status: OK