Package: extraChIPs Version: 1.11.0 Command: /home/biocbuild/R/R/bin/R CMD build --keep-empty-dirs --no-resave-data extraChIPs StartedAt: 2025-01-28 22:51:06 -0000 (Tue, 28 Jan 2025) EndedAt: 2025-01-28 22:53:40 -0000 (Tue, 28 Jan 2025) EllapsedTime: 154.1 seconds RetCode: 0 Status: OK PackageFile: extraChIPs_1.11.0.tar.gz PackageFileSize: 3.507 MiB