Package: extraChIPs Version: 1.11.0 Command: /home/biocbuild/R/R/bin/R CMD INSTALL extraChIPs StartedAt: 2025-01-29 20:12:13 -0000 (Wed, 29 Jan 2025) EndedAt: 2025-01-29 20:13:30 -0000 (Wed, 29 Jan 2025) EllapsedTime: 77.5 seconds RetCode: 0 Status: OK