Package: extraChIPs Version: 1.11.0 Command: rm -rf extraChIPs.buildbin-libdir && mkdir extraChIPs.buildbin-libdir && /Users/biocbuild/BBS/utils/build-universal.sh extraChIPs_1.11.0.tar.gz /Library/Frameworks/R.framework/Resources/bin/R extraChIPs.buildbin-libdir StartedAt: 2025-02-10 00:53:04 -0500 (Mon, 10 Feb 2025) EndedAt: 2025-02-10 00:54:28 -0500 (Mon, 10 Feb 2025) EllapsedTime: 83.7 seconds RetCode: 0 Status: OK PackageFile: extraChIPs_1.11.0.tgz PackageFileSize: 2.723 MiB