Package: extraChIPs Version: 1.11.0 Command: chmod a+r extraChIPs -R && E:\biocbuild\bbs-3.21-bioc\R\bin\R.exe CMD build --keep-empty-dirs --no-resave-data extraChIPs StartedAt: 2025-02-09 18:39:44 -0500 (Sun, 09 Feb 2025) EndedAt: 2025-02-09 18:42:36 -0500 (Sun, 09 Feb 2025) EllapsedTime: 172.0 seconds RetCode: 0 Status: OK PackageFile: extraChIPs_1.11.0.tar.gz PackageFileSize: 3.366 MiB