Package: fCI Version: 1.37.0 Command: /Library/Frameworks/R.framework/Resources/bin/R CMD INSTALL fCI StartedAt: 2025-02-09 15:14:54 -0500 (Sun, 09 Feb 2025) EndedAt: 2025-02-09 15:14:57 -0500 (Sun, 09 Feb 2025) EllapsedTime: 2.9 seconds RetCode: 0 Status: OK